BEGIN:VCALENDAR
VERSION:2.0
PRODID:-//De La Salle College, Jersey - ECPv6.15.20//NONSGML v1.0//EN
CALSCALE:GREGORIAN
METHOD:PUBLISH
X-ORIGINAL-URL:https://www.dls-jersey.co.uk
X-WR-CALDESC:Events for De La Salle College, Jersey
REFRESH-INTERVAL;VALUE=DURATION:PT1H
X-Robots-Tag:noindex
X-PUBLISHED-TTL:PT1H
BEGIN:VTIMEZONE
TZID:Europe/Jersey
BEGIN:DAYLIGHT
TZOFFSETFROM:+0000
TZOFFSETTO:+0100
TZNAME:BST
DTSTART:20230326T010000
END:DAYLIGHT
BEGIN:STANDARD
TZOFFSETFROM:+0100
TZOFFSETTO:+0000
TZNAME:GMT
DTSTART:20231029T010000
END:STANDARD
BEGIN:DAYLIGHT
TZOFFSETFROM:+0000
TZOFFSETTO:+0100
TZNAME:BST
DTSTART:20240331T010000
END:DAYLIGHT
BEGIN:STANDARD
TZOFFSETFROM:+0100
TZOFFSETTO:+0000
TZNAME:GMT
DTSTART:20241027T010000
END:STANDARD
BEGIN:DAYLIGHT
TZOFFSETFROM:+0000
TZOFFSETTO:+0100
TZNAME:BST
DTSTART:20250330T010000
END:DAYLIGHT
BEGIN:STANDARD
TZOFFSETFROM:+0100
TZOFFSETTO:+0000
TZNAME:GMT
DTSTART:20251026T010000
END:STANDARD
END:VTIMEZONE
BEGIN:VEVENT
DTSTART;VALUE=DATE:20241007
DTEND;VALUE=DATE:20241012
DTSTAMP:20260422T135232
CREATED:20240913T132259Z
LAST-MODIFIED:20240930T105101Z
UID:7834-1728259200-1728691199@www.dls-jersey.co.uk
SUMMARY:Year 10 Football Trip to Malta - PRS/ACK/NLU/PLL
DESCRIPTION:
URL:https://www.dls-jersey.co.uk/event/year-10-football-trip-to-malta-prs-ack-nlu-pll/
CATEGORIES:Secondary,Sports,Trips
END:VEVENT
BEGIN:VEVENT
DTSTART;TZID=Europe/Jersey:20241007T090000
DTEND;TZID=Europe/Jersey:20241007T113000
DTSTAMP:20260422T135232
CREATED:20240901T093907Z
LAST-MODIFIED:20240930T105043Z
UID:6927-1728291600-1728300600@www.dls-jersey.co.uk
SUMMARY:English iGCSE - Year 11
DESCRIPTION:
URL:https://www.dls-jersey.co.uk/event/english-igcse-year-11/
CATEGORIES:Exams,Secondary
END:VEVENT
END:VCALENDAR