BEGIN:VCALENDAR
VERSION:2.0
PRODID:-//De La Salle College, Jersey - ECPv6.15.20//NONSGML v1.0//EN
CALSCALE:GREGORIAN
METHOD:PUBLISH
X-ORIGINAL-URL:https://www.dls-jersey.co.uk
X-WR-CALDESC:Events for De La Salle College, Jersey
REFRESH-INTERVAL;VALUE=DURATION:PT1H
X-Robots-Tag:noindex
X-PUBLISHED-TTL:PT1H
BEGIN:VTIMEZONE
TZID:Europe/Jersey
BEGIN:DAYLIGHT
TZOFFSETFROM:+0000
TZOFFSETTO:+0100
TZNAME:BST
DTSTART:20240331T010000
END:DAYLIGHT
BEGIN:STANDARD
TZOFFSETFROM:+0100
TZOFFSETTO:+0000
TZNAME:GMT
DTSTART:20241027T010000
END:STANDARD
BEGIN:DAYLIGHT
TZOFFSETFROM:+0000
TZOFFSETTO:+0100
TZNAME:BST
DTSTART:20250330T010000
END:DAYLIGHT
BEGIN:STANDARD
TZOFFSETFROM:+0100
TZOFFSETTO:+0000
TZNAME:GMT
DTSTART:20251026T010000
END:STANDARD
BEGIN:DAYLIGHT
TZOFFSETFROM:+0000
TZOFFSETTO:+0100
TZNAME:BST
DTSTART:20260329T010000
END:DAYLIGHT
BEGIN:STANDARD
TZOFFSETFROM:+0100
TZOFFSETTO:+0000
TZNAME:GMT
DTSTART:20261025T010000
END:STANDARD
END:VTIMEZONE
BEGIN:VEVENT
DTSTART;VALUE=DATE:20250117
DTEND;VALUE=DATE:20250118
DTSTAMP:20260424T110003
CREATED:20241219T122758Z
LAST-MODIFIED:20250103T092638Z
UID:8599-1737072000-1737158399@www.dls-jersey.co.uk
SUMMARY:Art Department House Competition Window closes
DESCRIPTION:
URL:https://www.dls-jersey.co.uk/event/art-department-house-competition-window-closes/
END:VEVENT
BEGIN:VEVENT
DTSTART;TZID=Europe/Jersey:20250117T090000
DTEND;TZID=Europe/Jersey:20250117T120000
DTSTAMP:20260424T110003
CREATED:20241219T122735Z
LAST-MODIFIED:20250103T092457Z
UID:8589-1737104400-1737115200@www.dls-jersey.co.uk
SUMMARY:BTEC SCIENCE EXTERNAL ASSESSMENT
DESCRIPTION:
URL:https://www.dls-jersey.co.uk/event/btec-science-external-assessment/
CATEGORIES:Exams
END:VEVENT
END:VCALENDAR