BEGIN:VCALENDAR
VERSION:2.0
PRODID:-//De La Salle College, Jersey - ECPv6.15.20//NONSGML v1.0//EN
CALSCALE:GREGORIAN
METHOD:PUBLISH
X-ORIGINAL-URL:https://www.dls-jersey.co.uk
X-WR-CALDESC:Events for De La Salle College, Jersey
REFRESH-INTERVAL;VALUE=DURATION:PT1H
X-Robots-Tag:noindex
X-PUBLISHED-TTL:PT1H
BEGIN:VTIMEZONE
TZID:Europe/Jersey
BEGIN:DAYLIGHT
TZOFFSETFROM:+0000
TZOFFSETTO:+0100
TZNAME:BST
DTSTART:20240331T010000
END:DAYLIGHT
BEGIN:STANDARD
TZOFFSETFROM:+0100
TZOFFSETTO:+0000
TZNAME:GMT
DTSTART:20241027T010000
END:STANDARD
BEGIN:DAYLIGHT
TZOFFSETFROM:+0000
TZOFFSETTO:+0100
TZNAME:BST
DTSTART:20250330T010000
END:DAYLIGHT
BEGIN:STANDARD
TZOFFSETFROM:+0100
TZOFFSETTO:+0000
TZNAME:GMT
DTSTART:20251026T010000
END:STANDARD
BEGIN:DAYLIGHT
TZOFFSETFROM:+0000
TZOFFSETTO:+0100
TZNAME:BST
DTSTART:20260329T010000
END:DAYLIGHT
BEGIN:STANDARD
TZOFFSETFROM:+0100
TZOFFSETTO:+0000
TZNAME:GMT
DTSTART:20261025T010000
END:STANDARD
END:VTIMEZONE
BEGIN:VEVENT
DTSTART;VALUE=DATE:20250506
DTEND;VALUE=DATE:20250507
DTSTAMP:20260420T125648
CREATED:20250424T130510Z
LAST-MODIFIED:20250424T134902Z
UID:9314-1746489600-1746575999@www.dls-jersey.co.uk
SUMMARY:Year 11 Study Leave Begins
DESCRIPTION:From this point students can study from home if they wish. Teachers will remain in timetabled lessons up until half term – Smart/Casual Attire
URL:https://www.dls-jersey.co.uk/event/year-11-study-leave-begins/
END:VEVENT
BEGIN:VEVENT
DTSTART;TZID=Europe/Jersey:20250506T080000
DTEND;TZID=Europe/Jersey:20250506T090000
DTSTAMP:20260420T125648
CREATED:20250424T130510Z
LAST-MODIFIED:20250424T134923Z
UID:9315-1746518400-1746522000@www.dls-jersey.co.uk
SUMMARY:Maths Competition Window Opens
DESCRIPTION:HOH & House Tutors – Year 7-10
URL:https://www.dls-jersey.co.uk/event/maths-competition-window-opens/
END:VEVENT
BEGIN:VEVENT
DTSTART;TZID=Europe/Jersey:20250506T084500
DTEND;TZID=Europe/Jersey:20250506T130000
DTSTAMP:20260420T125648
CREATED:20250424T130510Z
LAST-MODIFIED:20250424T135011Z
UID:9317-1746521100-1746536400@www.dls-jersey.co.uk
SUMMARY:Year 10 Maths Revision
DESCRIPTION:Year 10 off timetable
URL:https://www.dls-jersey.co.uk/event/year-10-maths-revision/
END:VEVENT
BEGIN:VEVENT
DTSTART;TZID=Europe/Jersey:20250506T084500
DTEND;TZID=Europe/Jersey:20250508T153000
DTSTAMP:20260420T125648
CREATED:20250424T130510Z
LAST-MODIFIED:20250424T134942Z
UID:9316-1746521100-1746718200@www.dls-jersey.co.uk
SUMMARY:Year 13 Art Assessment
DESCRIPTION:Students off timetable
URL:https://www.dls-jersey.co.uk/event/year-13-art-assessment/
END:VEVENT
BEGIN:VEVENT
DTSTART;TZID=Europe/Jersey:20250506T090000
DTEND;TZID=Europe/Jersey:20250506T153000
DTSTAMP:20260420T125648
CREATED:20250424T130724Z
LAST-MODIFIED:20250424T130724Z
UID:9361-1746522000-1746545400@www.dls-jersey.co.uk
SUMMARY:Primary Sports Day - tbc
DESCRIPTION:FB Track -details to follow
URL:https://www.dls-jersey.co.uk/event/primary-sports-day-tbc/
END:VEVENT
BEGIN:VEVENT
DTSTART;TZID=Europe/Jersey:20250506T134000
DTEND;TZID=Europe/Jersey:20250506T153000
DTSTAMP:20260420T125648
CREATED:20250424T130523Z
LAST-MODIFIED:20250424T135033Z
UID:9318-1746538800-1746545400@www.dls-jersey.co.uk
SUMMARY:Year 10 Maths Guided Study
DESCRIPTION:Year 10 Off-timetable
URL:https://www.dls-jersey.co.uk/event/year-10-maths-guided-study/
END:VEVENT
END:VCALENDAR