BEGIN:VCALENDAR
VERSION:2.0
PRODID:-//De La Salle College, Jersey - ECPv6.15.20//NONSGML v1.0//EN
CALSCALE:GREGORIAN
METHOD:PUBLISH
X-WR-CALNAME:De La Salle College, Jersey
X-ORIGINAL-URL:https://www.dls-jersey.co.uk
X-WR-CALDESC:Events for De La Salle College, Jersey
REFRESH-INTERVAL;VALUE=DURATION:PT1H
X-Robots-Tag:noindex
X-PUBLISHED-TTL:PT1H
BEGIN:VTIMEZONE
TZID:Europe/Jersey
BEGIN:DAYLIGHT
TZOFFSETFROM:+0000
TZOFFSETTO:+0100
TZNAME:BST
DTSTART:20240331T010000
END:DAYLIGHT
BEGIN:STANDARD
TZOFFSETFROM:+0100
TZOFFSETTO:+0000
TZNAME:GMT
DTSTART:20241027T010000
END:STANDARD
BEGIN:DAYLIGHT
TZOFFSETFROM:+0000
TZOFFSETTO:+0100
TZNAME:BST
DTSTART:20250330T010000
END:DAYLIGHT
BEGIN:STANDARD
TZOFFSETFROM:+0100
TZOFFSETTO:+0000
TZNAME:GMT
DTSTART:20251026T010000
END:STANDARD
BEGIN:DAYLIGHT
TZOFFSETFROM:+0000
TZOFFSETTO:+0100
TZNAME:BST
DTSTART:20260329T010000
END:DAYLIGHT
BEGIN:STANDARD
TZOFFSETFROM:+0100
TZOFFSETTO:+0000
TZNAME:GMT
DTSTART:20261025T010000
END:STANDARD
END:VTIMEZONE
BEGIN:VEVENT
DTSTART;VALUE=DATE:20250509
DTEND;VALUE=DATE:20250510
DTSTAMP:20260420T092428
CREATED:20250424T130538Z
LAST-MODIFIED:20250424T135316Z
UID:9323-1746748800-1746835199@www.dls-jersey.co.uk
SUMMARY:Liberation Day
DESCRIPTION:School Closed except for Year 12 Business students
URL:https://www.dls-jersey.co.uk/event/liberation-day/
END:VEVENT
BEGIN:VEVENT
DTSTART;TZID=Europe/Jersey:20250509T090000
DTEND;TZID=Europe/Jersey:20250509T120000
DTSTAMP:20260420T092428
CREATED:20250424T130539Z
LAST-MODIFIED:20250424T135349Z
UID:9324-1746781200-1746792000@www.dls-jersey.co.uk
SUMMARY:BTEC Business External Assessment
DESCRIPTION:Year 12 Unit 2
URL:https://www.dls-jersey.co.uk/event/btec-business-external-assessment/
END:VEVENT
END:VCALENDAR