BEGIN:VCALENDAR
VERSION:2.0
PRODID:-//De La Salle College, Jersey - ECPv6.15.20//NONSGML v1.0//EN
CALSCALE:GREGORIAN
METHOD:PUBLISH
X-ORIGINAL-URL:https://www.dls-jersey.co.uk
X-WR-CALDESC:Events for De La Salle College, Jersey
REFRESH-INTERVAL;VALUE=DURATION:PT1H
X-Robots-Tag:noindex
X-PUBLISHED-TTL:PT1H
BEGIN:VTIMEZONE
TZID:Europe/Jersey
BEGIN:DAYLIGHT
TZOFFSETFROM:+0000
TZOFFSETTO:+0100
TZNAME:BST
DTSTART:20240331T010000
END:DAYLIGHT
BEGIN:STANDARD
TZOFFSETFROM:+0100
TZOFFSETTO:+0000
TZNAME:GMT
DTSTART:20241027T010000
END:STANDARD
BEGIN:DAYLIGHT
TZOFFSETFROM:+0000
TZOFFSETTO:+0100
TZNAME:BST
DTSTART:20250330T010000
END:DAYLIGHT
BEGIN:STANDARD
TZOFFSETFROM:+0100
TZOFFSETTO:+0000
TZNAME:GMT
DTSTART:20251026T010000
END:STANDARD
BEGIN:DAYLIGHT
TZOFFSETFROM:+0000
TZOFFSETTO:+0100
TZNAME:BST
DTSTART:20260329T010000
END:DAYLIGHT
BEGIN:STANDARD
TZOFFSETFROM:+0100
TZOFFSETTO:+0000
TZNAME:GMT
DTSTART:20261025T010000
END:STANDARD
END:VTIMEZONE
BEGIN:VEVENT
DTSTART;VALUE=DATE:20250519
DTEND;VALUE=DATE:20250523
DTSTAMP:20260420T092527
CREATED:20250424T130623Z
LAST-MODIFIED:20250424T142025Z
UID:9338-1747612800-1747958399@www.dls-jersey.co.uk
SUMMARY:Key Stage 2 Assessments
DESCRIPTION:Various Lessons
URL:https://www.dls-jersey.co.uk/event/key-stage-2-assessments/
END:VEVENT
BEGIN:VEVENT
DTSTART;TZID=Europe/Jersey:20250521T084500
DTEND;TZID=Europe/Jersey:20250521T110000
DTSTAMP:20260420T092527
CREATED:20250424T130638Z
LAST-MODIFIED:20250424T142103Z
UID:9344-1747817100-1747825200@www.dls-jersey.co.uk
SUMMARY:Year 12 Psychology Trip to Magistrates Court
DESCRIPTION:
URL:https://www.dls-jersey.co.uk/event/year-12-psychology-trip-to-magistrates-court/
END:VEVENT
BEGIN:VEVENT
DTSTART;TZID=Europe/Jersey:20250521T084500
DTEND;TZID=Europe/Jersey:20250521T130000
DTSTAMP:20260420T092527
CREATED:20250424T130639Z
LAST-MODIFIED:20250425T135245Z
UID:9345-1747817100-1747832400@www.dls-jersey.co.uk
SUMMARY:Year 10 RS Revision
DESCRIPTION:Year 10 off timetable
URL:https://www.dls-jersey.co.uk/event/year-10-rs-revision-2/
END:VEVENT
BEGIN:VEVENT
DTSTART;TZID=Europe/Jersey:20250521T133000
DTEND;TZID=Europe/Jersey:20250521T160000
DTSTAMP:20260420T092527
CREATED:20250424T130639Z
LAST-MODIFIED:20250424T142202Z
UID:9346-1747834200-1747843200@www.dls-jersey.co.uk
SUMMARY:RS GCSE
DESCRIPTION:Year 10
URL:https://www.dls-jersey.co.uk/event/rs-gcse/
CATEGORIES:Exams
END:VEVENT
END:VCALENDAR