BEGIN:VCALENDAR
VERSION:2.0
PRODID:-//De La Salle College, Jersey - ECPv6.15.20//NONSGML v1.0//EN
CALSCALE:GREGORIAN
METHOD:PUBLISH
X-WR-CALNAME:De La Salle College, Jersey
X-ORIGINAL-URL:https://www.dls-jersey.co.uk
X-WR-CALDESC:Events for De La Salle College, Jersey
REFRESH-INTERVAL;VALUE=DURATION:PT1H
X-Robots-Tag:noindex
X-PUBLISHED-TTL:PT1H
BEGIN:VTIMEZONE
TZID:Europe/Jersey
BEGIN:DAYLIGHT
TZOFFSETFROM:+0000
TZOFFSETTO:+0100
TZNAME:BST
DTSTART:20240331T010000
END:DAYLIGHT
BEGIN:STANDARD
TZOFFSETFROM:+0100
TZOFFSETTO:+0000
TZNAME:GMT
DTSTART:20241027T010000
END:STANDARD
BEGIN:DAYLIGHT
TZOFFSETFROM:+0000
TZOFFSETTO:+0100
TZNAME:BST
DTSTART:20250330T010000
END:DAYLIGHT
BEGIN:STANDARD
TZOFFSETFROM:+0100
TZOFFSETTO:+0000
TZNAME:GMT
DTSTART:20251026T010000
END:STANDARD
BEGIN:DAYLIGHT
TZOFFSETFROM:+0000
TZOFFSETTO:+0100
TZNAME:BST
DTSTART:20260329T010000
END:DAYLIGHT
BEGIN:STANDARD
TZOFFSETFROM:+0100
TZOFFSETTO:+0000
TZNAME:GMT
DTSTART:20261025T010000
END:STANDARD
END:VTIMEZONE
BEGIN:VEVENT
DTSTART;VALUE=DATE:20250602
DTEND;VALUE=DATE:20250607
DTSTAMP:20260420T094023
CREATED:20250424T130923Z
LAST-MODIFIED:20250424T143231Z
UID:9362-1748822400-1749254399@www.dls-jersey.co.uk
SUMMARY:Year 6 Residential Trip
DESCRIPTION:PGL Osmington Bay
URL:https://www.dls-jersey.co.uk/event/year-6-residential-trip-5/
CATEGORIES:Primary,Trips
END:VEVENT
BEGIN:VEVENT
DTSTART;TZID=Europe/Jersey:20250602T080000
DTEND;TZID=Europe/Jersey:20250606T160000
DTSTAMP:20260420T094023
CREATED:20250424T130654Z
LAST-MODIFIED:20250424T133537Z
UID:9351-1748851200-1749225600@www.dls-jersey.co.uk
SUMMARY:Year 7\, 8\, 9 & 12 Assessment Week
DESCRIPTION:All subjects – Timetable collapsed
URL:https://www.dls-jersey.co.uk/event/year-789-12-assessment-week/
CATEGORIES:Secondary
END:VEVENT
BEGIN:VEVENT
DTSTART;TZID=Europe/Jersey:20250602T083000
DTEND;TZID=Europe/Jersey:20250602T150000
DTSTAMP:20260420T094023
CREATED:20250312T110603Z
LAST-MODIFIED:20250602T082311Z
UID:9154-1748853000-1748876400@www.dls-jersey.co.uk
SUMMARY:De La Salle Secondary Year 5 Taster Day
DESCRIPTION:We are excited to welcome Year 5 boys from all schools to come and spend a day in the life of a Year 7 student at DLS! \n \nThe day will include an assortment of activities to help the boys experience our excellent teaching and learning environment. Your son will enjoy a range of lessons\, including an action-packed Games lesson\, plus snacks and lunch provided to sample some of the excellent catering available at the school. There will also be an assembly led by our inspiring Sixth Form Leadership Team\, who will talk about their own experiences of what makes De La Salle so special. \nThe day will run from 8:30am until 3:00pm\, and local Primary schools have been notified in advance of this event. \nWe can’t wait to open our doors to Year 5 students from around the island and let them experience first-hand the exceptional teaching. outstanding student-teacher ratios and caring\, nurturing environment we’re known for. \nIf you’d like to join us\, please register for free using the below form\, and if you have any questions\, please don’t hesitate to contact our Director of Admissions\, Mr Silvester on 754100 or admissionspa@dls-jersey.co.uk \n 
URL:https://www.dls-jersey.co.uk/event/taster-day/
CATEGORIES:Open Event,Secondary
END:VEVENT
END:VCALENDAR