BEGIN:VCALENDAR
VERSION:2.0
PRODID:-//De La Salle College, Jersey - ECPv6.15.20//NONSGML v1.0//EN
CALSCALE:GREGORIAN
METHOD:PUBLISH
X-ORIGINAL-URL:https://www.dls-jersey.co.uk
X-WR-CALDESC:Events for De La Salle College, Jersey
REFRESH-INTERVAL;VALUE=DURATION:PT1H
X-Robots-Tag:noindex
X-PUBLISHED-TTL:PT1H
BEGIN:VTIMEZONE
TZID:Europe/Jersey
BEGIN:DAYLIGHT
TZOFFSETFROM:+0000
TZOFFSETTO:+0100
TZNAME:BST
DTSTART:20250330T010000
END:DAYLIGHT
BEGIN:STANDARD
TZOFFSETFROM:+0100
TZOFFSETTO:+0000
TZNAME:GMT
DTSTART:20251026T010000
END:STANDARD
BEGIN:DAYLIGHT
TZOFFSETFROM:+0000
TZOFFSETTO:+0100
TZNAME:BST
DTSTART:20260329T010000
END:DAYLIGHT
BEGIN:STANDARD
TZOFFSETFROM:+0100
TZOFFSETTO:+0000
TZNAME:GMT
DTSTART:20261025T010000
END:STANDARD
BEGIN:DAYLIGHT
TZOFFSETFROM:+0000
TZOFFSETTO:+0100
TZNAME:BST
DTSTART:20270328T010000
END:DAYLIGHT
BEGIN:STANDARD
TZOFFSETFROM:+0100
TZOFFSETTO:+0000
TZNAME:GMT
DTSTART:20271031T010000
END:STANDARD
END:VTIMEZONE
BEGIN:VEVENT
DTSTART;VALUE=DATE:20260506
DTEND;VALUE=DATE:20260508
DTSTAMP:20260423T100100
CREATED:20260419T235029Z
LAST-MODIFIED:20260419T235029Z
UID:13412-1778025600-1778198399@www.dls-jersey.co.uk
SUMMARY:Year 4 Residential
DESCRIPTION:
URL:https://www.dls-jersey.co.uk/event/year-4-residential/
CATEGORIES:Primary,Trips
END:VEVENT
BEGIN:VEVENT
DTSTART;VALUE=DATE:20260601
DTEND;VALUE=DATE:20260606
DTSTAMP:20260423T100100
CREATED:20260420T000145Z
LAST-MODIFIED:20260420T000145Z
UID:13450-1780272000-1780703999@www.dls-jersey.co.uk
SUMMARY:Year 6 PGL Trip
DESCRIPTION:
URL:https://www.dls-jersey.co.uk/event/year-6-pgl-trip/
CATEGORIES:Primary,Trips
END:VEVENT
BEGIN:VEVENT
DTSTART;TZID=Europe/Jersey:20260605T120000
DTEND;TZID=Europe/Jersey:20260605T153000
DTSTAMP:20260423T100100
CREATED:20260420T000357Z
LAST-MODIFIED:20260420T000357Z
UID:13458-1780660800-1780673400@www.dls-jersey.co.uk
SUMMARY:Year 9 Trip to the Synagogue
DESCRIPTION:
URL:https://www.dls-jersey.co.uk/event/year-9-trip-to-the-synagogue/
CATEGORIES:Secondary,Trips
END:VEVENT
BEGIN:VEVENT
DTSTART;VALUE=DATE:20260608
DTEND;VALUE=DATE:20260611
DTSTAMP:20260423T100100
CREATED:20260420T000431Z
LAST-MODIFIED:20260420T000431Z
UID:13460-1780876800-1781135999@www.dls-jersey.co.uk
SUMMARY:Year 7 - 9 Summer Sports Tour
DESCRIPTION:
URL:https://www.dls-jersey.co.uk/event/year-7-9-summer-sports-tour/
CATEGORIES:Secondary,Sports,Trips
END:VEVENT
END:VCALENDAR