BEGIN:VCALENDAR
VERSION:2.0
PRODID:-//De La Salle College, Jersey - ECPv6.15.20//NONSGML v1.0//EN
CALSCALE:GREGORIAN
METHOD:PUBLISH
X-WR-CALNAME:De La Salle College, Jersey
X-ORIGINAL-URL:https://www.dls-jersey.co.uk
X-WR-CALDESC:Events for De La Salle College, Jersey
REFRESH-INTERVAL;VALUE=DURATION:PT1H
X-Robots-Tag:noindex
X-PUBLISHED-TTL:PT1H
BEGIN:VTIMEZONE
TZID:Europe/Jersey
BEGIN:STANDARD
TZOFFSETFROM:+0100
TZOFFSETTO:+0000
TZNAME:GMT
DTSTART:19711031T020000
END:STANDARD
END:VTIMEZONE
BEGIN:VEVENT
DTSTART;TZID=Europe/Jersey:20260423T025026
DTEND;TZID=Europe/Jersey:20260423T025026
DTSTAMP:20260423T025026
CREATED:20241220T142704Z
LAST-MODIFIED:20241220T142704Z
UID:8689-0-0@www.dls-jersey.co.uk
SUMMARY:Year 5 Scout Hut Residential
DESCRIPTION:
URL:https://www.dls-jersey.co.uk/event/year-5-scout-hut-residential/
END:VEVENT
BEGIN:VEVENT
DTSTART;TZID=Europe/Jersey:20260423T025026
DTEND;TZID=Europe/Jersey:20260423T025026
DTSTAMP:20260423T025026
CREATED:20241220T142306Z
LAST-MODIFIED:20241220T144629Z
UID:8683-0-0@www.dls-jersey.co.uk
SUMMARY:Merit Count Deadline
DESCRIPTION:
URL:https://www.dls-jersey.co.uk/event/merit-count-deadline/
END:VEVENT
BEGIN:VEVENT
DTSTART;TZID=Europe/Jersey:20260423T025026
DTEND;TZID=Europe/Jersey:20260423T025026
DTSTAMP:20260423T025026
CREATED:20241220T141820Z
LAST-MODIFIED:20241220T141820Z
UID:8663-0-0@www.dls-jersey.co.uk
SUMMARY:Year 9 Teenage Booster & MenACWY
DESCRIPTION:
URL:https://www.dls-jersey.co.uk/event/year-9-teenage-booster-menacwy/
END:VEVENT
BEGIN:VEVENT
DTSTART;TZID=Europe/Jersey:20260423T025026
DTEND;TZID=Europe/Jersey:20260423T025026
DTSTAMP:20260423T025026
CREATED:20241220T141820Z
LAST-MODIFIED:20241220T141820Z
UID:8664-0-0@www.dls-jersey.co.uk
SUMMARY:Lord Jersey Rugby Tournament
DESCRIPTION:
URL:https://www.dls-jersey.co.uk/event/lord-jersey-rugby-tournament/
END:VEVENT
BEGIN:VEVENT
DTSTART;TZID=Europe/Jersey:20260423T025026
DTEND;TZID=Europe/Jersey:20260423T025026
DTSTAMP:20260423T025026
CREATED:20241220T141805Z
LAST-MODIFIED:20241220T141805Z
UID:8660-0-0@www.dls-jersey.co.uk
SUMMARY:DT - F1 in Schools Event
DESCRIPTION:
URL:https://www.dls-jersey.co.uk/event/dt-f1-in-schools-event/
END:VEVENT
BEGIN:VEVENT
DTSTART;TZID=Europe/Jersey:20260423T025026
DTEND;TZID=Europe/Jersey:20260423T025026
DTSTAMP:20260423T025026
CREATED:20241219T123445Z
LAST-MODIFIED:20241220T143919Z
UID:8623-0-0@www.dls-jersey.co.uk
SUMMARY:Year 10 & Year 12 Normal TImetable from this point
DESCRIPTION:
URL:https://www.dls-jersey.co.uk/event/year-10-year-12-normal-timetable-from-this-point/
END:VEVENT
END:VCALENDAR