BEGIN:VCALENDAR
VERSION:2.0
PRODID:-//De La Salle College, Jersey - ECPv6.15.20//NONSGML v1.0//EN
CALSCALE:GREGORIAN
METHOD:PUBLISH
X-WR-CALNAME:De La Salle College, Jersey
X-ORIGINAL-URL:https://www.dls-jersey.co.uk
X-WR-CALDESC:Events for De La Salle College, Jersey
REFRESH-INTERVAL;VALUE=DURATION:PT1H
X-Robots-Tag:noindex
X-PUBLISHED-TTL:PT1H
BEGIN:VTIMEZONE
TZID:Europe/Jersey
BEGIN:DAYLIGHT
TZOFFSETFROM:+0000
TZOFFSETTO:+0100
TZNAME:BST
DTSTART:20250330T010000
END:DAYLIGHT
BEGIN:STANDARD
TZOFFSETFROM:+0100
TZOFFSETTO:+0000
TZNAME:GMT
DTSTART:20251026T010000
END:STANDARD
BEGIN:DAYLIGHT
TZOFFSETFROM:+0000
TZOFFSETTO:+0100
TZNAME:BST
DTSTART:20260329T010000
END:DAYLIGHT
BEGIN:STANDARD
TZOFFSETFROM:+0100
TZOFFSETTO:+0000
TZNAME:GMT
DTSTART:20261025T010000
END:STANDARD
BEGIN:DAYLIGHT
TZOFFSETFROM:+0000
TZOFFSETTO:+0100
TZNAME:BST
DTSTART:20270328T010000
END:DAYLIGHT
BEGIN:STANDARD
TZOFFSETFROM:+0100
TZOFFSETTO:+0000
TZNAME:GMT
DTSTART:20271031T010000
END:STANDARD
END:VTIMEZONE
BEGIN:VEVENT
DTSTART;TZID=Europe/Jersey:20260401T090000
DTEND;TZID=Europe/Jersey:20260401T120000
DTSTAMP:20260420T094155
CREATED:20260127T144145Z
LAST-MODIFIED:20260127T144145Z
UID:11986-1775034000-1775044800@www.dls-jersey.co.uk
SUMMARY:Year 11 iGCSE ICT Practical
DESCRIPTION:CATHERINE TURNER BUILDING COMPUTER ROOM 8
URL:https://www.dls-jersey.co.uk/event/year-11-igcse-ict-practical/
CATEGORIES:Secondary
END:VEVENT
BEGIN:VEVENT
DTSTART;TZID=Europe/Jersey:20260401T120000
DTEND;TZID=Europe/Jersey:20260401T120000
DTSTAMP:20260420T094155
CREATED:20260127T144203Z
LAST-MODIFIED:20260127T144203Z
UID:11987-1775044800-1775044800@www.dls-jersey.co.uk
SUMMARY:End of Lent Term
DESCRIPTION:
URL:https://www.dls-jersey.co.uk/event/end-of-lent-term/
END:VEVENT
BEGIN:VEVENT
DTSTART;TZID=Europe/Jersey:20260401T120000
DTEND;TZID=Europe/Jersey:20260420T235900
DTSTAMP:20260420T094155
CREATED:20250827T135542Z
LAST-MODIFIED:20250827T135600Z
UID:9875-1775044800-1776729540@www.dls-jersey.co.uk
SUMMARY:Easter Holidays
DESCRIPTION:
URL:https://www.dls-jersey.co.uk/event/easter-holidays-2026/
CATEGORIES:Primary,School Holidays,Secondary
END:VEVENT
BEGIN:VEVENT
DTSTART;VALUE=DATE:20260420
DTEND;VALUE=DATE:20260421
DTSTAMP:20260420T094155
CREATED:20250827T143107Z
LAST-MODIFIED:20250827T143107Z
UID:9891-1776643200-1776729599@www.dls-jersey.co.uk
SUMMARY:INSET Day
DESCRIPTION:
URL:https://www.dls-jersey.co.uk/event/inset-day-3/
CATEGORIES:Inset Days
END:VEVENT
BEGIN:VEVENT
DTSTART;TZID=Europe/Jersey:20260420T180000
DTEND;TZID=Europe/Jersey:20260420T193000
DTSTAMP:20260420T094155
CREATED:20260419T235945Z
LAST-MODIFIED:20260419T235945Z
UID:13446-1776708000-1776713400@www.dls-jersey.co.uk
SUMMARY:Year 8 GCSE OPTION EVENING
DESCRIPTION:
URL:https://www.dls-jersey.co.uk/event/year-8-gcse-option-evening/
END:VEVENT
BEGIN:VEVENT
DTSTART;TZID=Europe/Jersey:20260421T080000
DTEND;TZID=Europe/Jersey:20260421T084500
DTSTAMP:20260420T094155
CREATED:20260419T234224Z
LAST-MODIFIED:20260419T234224Z
UID:13387-1776758400-1776761100@www.dls-jersey.co.uk
SUMMARY:Start of the Ascension Term
DESCRIPTION:
URL:https://www.dls-jersey.co.uk/event/start-of-the-ascension-term-2/
END:VEVENT
BEGIN:VEVENT
DTSTART;TZID=Europe/Jersey:20260421T084500
DTEND;TZID=Europe/Jersey:20260421T120000
DTSTAMP:20260420T094155
CREATED:20260419T234337Z
LAST-MODIFIED:20260419T234337Z
UID:13389-1776761100-1776772800@www.dls-jersey.co.uk
SUMMARY:Year 11 iGCSE ICT Practical Exam
DESCRIPTION:
URL:https://www.dls-jersey.co.uk/event/year-11-igcse-ict-practical-exam/
CATEGORIES:Exams
END:VEVENT
BEGIN:VEVENT
DTSTART;VALUE=DATE:20260422
DTEND;VALUE=DATE:20260425
DTSTAMP:20260420T094155
CREATED:20260419T234416Z
LAST-MODIFIED:20260419T234416Z
UID:13391-1776816000-1777075199@www.dls-jersey.co.uk
SUMMARY:A LEVEL Photography Moderation
DESCRIPTION:
URL:https://www.dls-jersey.co.uk/event/a-level-photography-moderation/
CATEGORIES:Exams
END:VEVENT
BEGIN:VEVENT
DTSTART;TZID=Europe/Jersey:20260424T173000
DTEND;TZID=Europe/Jersey:20260424T183000
DTSTAMP:20260420T094155
CREATED:20260419T234453Z
LAST-MODIFIED:20260419T234506Z
UID:13393-1777051800-1777055400@www.dls-jersey.co.uk
SUMMARY:PTA DIsco - Key Stage 1
DESCRIPTION:
URL:https://www.dls-jersey.co.uk/event/pta-disco-key-stage-1/
CATEGORIES:Primary
END:VEVENT
BEGIN:VEVENT
DTSTART;TZID=Europe/Jersey:20260424T190000
DTEND;TZID=Europe/Jersey:20260424T200000
DTSTAMP:20260420T094155
CREATED:20260419T234538Z
LAST-MODIFIED:20260419T234538Z
UID:13396-1777057200-1777060800@www.dls-jersey.co.uk
SUMMARY:PTA Disco - Key stage 2
DESCRIPTION:
URL:https://www.dls-jersey.co.uk/event/pta-disco-key-stage-2/
CATEGORIES:Primary
END:VEVENT
BEGIN:VEVENT
DTSTART;VALUE=DATE:20260427
DTEND;VALUE=DATE:20260430
DTSTAMP:20260420T094155
CREATED:20260419T234616Z
LAST-MODIFIED:20260419T234616Z
UID:13398-1777248000-1777507199@www.dls-jersey.co.uk
SUMMARY:Year 5 Residential
DESCRIPTION:
URL:https://www.dls-jersey.co.uk/event/year-5-residential/
CATEGORIES:Primary,Trips
END:VEVENT
BEGIN:VEVENT
DTSTART;TZID=Europe/Jersey:20260428T100000
DTEND;TZID=Europe/Jersey:20260428T150000
DTSTAMP:20260420T094155
CREATED:20260419T234725Z
LAST-MODIFIED:20260419T234725Z
UID:13400-1777370400-1777388400@www.dls-jersey.co.uk
SUMMARY:Year 5 Tag Rugby Tournament
DESCRIPTION:
URL:https://www.dls-jersey.co.uk/event/year-5-tag-rugby-tournament/
CATEGORIES:Sports
END:VEVENT
BEGIN:VEVENT
DTSTART;TZID=Europe/Jersey:20260429T103000
DTEND;TZID=Europe/Jersey:20260429T150000
DTSTAMP:20260420T094155
CREATED:20260419T234754Z
LAST-MODIFIED:20260419T234754Z
UID:13402-1777458600-1777474800@www.dls-jersey.co.uk
SUMMARY:Year 6 Tag Rugby Tournament
DESCRIPTION:
URL:https://www.dls-jersey.co.uk/event/year-6-tag-rugby-tournament/
CATEGORIES:Primary,Sports
END:VEVENT
BEGIN:VEVENT
DTSTART;TZID=Europe/Jersey:20260501T083000
DTEND;TZID=Europe/Jersey:20260501T120000
DTSTAMP:20260420T094155
CREATED:20260419T234829Z
LAST-MODIFIED:20260419T234829Z
UID:13404-1777624200-1777636800@www.dls-jersey.co.uk
SUMMARY:Primary School Walk
DESCRIPTION:
URL:https://www.dls-jersey.co.uk/event/primary-school-walk-2/
CATEGORIES:Primary
END:VEVENT
BEGIN:VEVENT
DTSTART;TZID=Europe/Jersey:20260501T130000
DTEND;TZID=Europe/Jersey:20260501T173000
DTSTAMP:20260420T094155
CREATED:20260419T234859Z
LAST-MODIFIED:20260419T234859Z
UID:13406-1777640400-1777656600@www.dls-jersey.co.uk
SUMMARY:1st XI Cricket v Victoria College
DESCRIPTION:
URL:https://www.dls-jersey.co.uk/event/1st-xi-cricket-v-victoria-college/
CATEGORIES:Sports
END:VEVENT
BEGIN:VEVENT
DTSTART;VALUE=DATE:20260504
DTEND;VALUE=DATE:20260505
DTSTAMP:20260420T094155
CREATED:20260419T234933Z
LAST-MODIFIED:20260419T234933Z
UID:13408-1777852800-1777939199@www.dls-jersey.co.uk
SUMMARY:Public Holiday
DESCRIPTION:
URL:https://www.dls-jersey.co.uk/event/public-holiday/
CATEGORIES:Primary,Secondary,Sixth Form
END:VEVENT
BEGIN:VEVENT
DTSTART;VALUE=DATE:20260506
DTEND;VALUE=DATE:20260507
DTSTAMP:20260420T094155
CREATED:20260419T235001Z
LAST-MODIFIED:20260419T235001Z
UID:13410-1778025600-1778111999@www.dls-jersey.co.uk
SUMMARY:Year 8 Safety In Action Day
DESCRIPTION:
URL:https://www.dls-jersey.co.uk/event/year-8-safety-in-action-day/
END:VEVENT
BEGIN:VEVENT
DTSTART;VALUE=DATE:20260506
DTEND;VALUE=DATE:20260508
DTSTAMP:20260420T094155
CREATED:20260419T235029Z
LAST-MODIFIED:20260419T235029Z
UID:13412-1778025600-1778198399@www.dls-jersey.co.uk
SUMMARY:Year 4 Residential
DESCRIPTION:
URL:https://www.dls-jersey.co.uk/event/year-4-residential/
CATEGORIES:Primary,Trips
END:VEVENT
BEGIN:VEVENT
DTSTART;VALUE=DATE:20260506
DTEND;VALUE=DATE:20260509
DTSTAMP:20260420T094155
CREATED:20260419T235053Z
LAST-MODIFIED:20260419T235053Z
UID:13414-1778025600-1778284799@www.dls-jersey.co.uk
SUMMARY:Art A LEVEL Moderation
DESCRIPTION:
URL:https://www.dls-jersey.co.uk/event/art-a-level-moderation/
CATEGORIES:Exams,Sixth Form
END:VEVENT
BEGIN:VEVENT
DTSTART;TZID=Europe/Jersey:20260506T133000
DTEND;TZID=Europe/Jersey:20260506T160000
DTSTAMP:20260420T094155
CREATED:20260419T235124Z
LAST-MODIFIED:20260419T235124Z
UID:13416-1778074200-1778083200@www.dls-jersey.co.uk
SUMMARY:Year 10 English Exam
DESCRIPTION:
URL:https://www.dls-jersey.co.uk/event/year-10-english-exam/
CATEGORIES:Exams
END:VEVENT
BEGIN:VEVENT
DTSTART;VALUE=DATE:20260507
DTEND;VALUE=DATE:20260508
DTSTAMP:20260420T094155
CREATED:20260419T235148Z
LAST-MODIFIED:20260419T235148Z
UID:13418-1778112000-1778198399@www.dls-jersey.co.uk
SUMMARY:Merit Winners Non-Uniform Day
DESCRIPTION:
URL:https://www.dls-jersey.co.uk/event/merit-winners-non-uniform-day-3/
END:VEVENT
BEGIN:VEVENT
DTSTART;TZID=Europe/Jersey:20260507T153000
DTEND;TZID=Europe/Jersey:20260507T170000
DTSTAMP:20260420T094155
CREATED:20260419T235219Z
LAST-MODIFIED:20260419T235219Z
UID:13420-1778167800-1778173200@www.dls-jersey.co.uk
SUMMARY:Merit Winners Bowling Trip
DESCRIPTION:
URL:https://www.dls-jersey.co.uk/event/merit-winners-bowling-trip/
END:VEVENT
BEGIN:VEVENT
DTSTART;TZID=Europe/Jersey:20260508T090000
DTEND;TZID=Europe/Jersey:20260508T120000
DTSTAMP:20260420T094155
CREATED:20260419T235246Z
LAST-MODIFIED:20260419T235246Z
UID:13422-1778230800-1778241600@www.dls-jersey.co.uk
SUMMARY:Year 4 Butterfield Liberation Games
DESCRIPTION:
URL:https://www.dls-jersey.co.uk/event/year-4-butterfield-liberation-games/
END:VEVENT
BEGIN:VEVENT
DTSTART;TZID=Europe/Jersey:20260508T094500
DTEND;TZID=Europe/Jersey:20260508T114500
DTSTAMP:20260420T094155
CREATED:20260419T235327Z
LAST-MODIFIED:20260419T235327Z
UID:13424-1778233500-1778240700@www.dls-jersey.co.uk
SUMMARY:Reception Class Minibeasts Trip
DESCRIPTION:
URL:https://www.dls-jersey.co.uk/event/reception-class-minibeasts-trip/
CATEGORIES:Primary
END:VEVENT
BEGIN:VEVENT
DTSTART;TZID=Europe/Jersey:20260508T153000
DTEND;TZID=Europe/Jersey:20260508T153000
DTSTAMP:20260420T094155
CREATED:20260419T235401Z
LAST-MODIFIED:20260419T235401Z
UID:13426-1778254200-1778254200@www.dls-jersey.co.uk
SUMMARY:Study Leave for Year 11 and 13 Begins
DESCRIPTION:
URL:https://www.dls-jersey.co.uk/event/study-leave-for-year-11-and-13-begins/
CATEGORIES:Secondary
END:VEVENT
BEGIN:VEVENT
DTSTART;TZID=Europe/Jersey:20260511T083000
DTEND;TZID=Europe/Jersey:20260511T093000
DTSTAMP:20260420T094155
CREATED:20260419T235434Z
LAST-MODIFIED:20260419T235434Z
UID:13428-1778488200-1778491800@www.dls-jersey.co.uk
SUMMARY:Primary Coastguard Production
DESCRIPTION:
URL:https://www.dls-jersey.co.uk/event/primary-coastguard-production/
CATEGORIES:Primary
END:VEVENT
BEGIN:VEVENT
DTSTART;TZID=Europe/Jersey:20260512T084500
DTEND;TZID=Europe/Jersey:20260512T113000
DTSTAMP:20260420T094155
CREATED:20260419T235502Z
LAST-MODIFIED:20260419T235502Z
UID:13430-1778575500-1778585400@www.dls-jersey.co.uk
SUMMARY:Year 10 RS Exam
DESCRIPTION:
URL:https://www.dls-jersey.co.uk/event/year-10-rs-exam/
CATEGORIES:Exams
END:VEVENT
BEGIN:VEVENT
DTSTART;TZID=Europe/Jersey:20260514T084500
DTEND;TZID=Europe/Jersey:20260514T110000
DTSTAMP:20260420T094155
CREATED:20260419T235535Z
LAST-MODIFIED:20260419T235535Z
UID:13432-1778748300-1778756400@www.dls-jersey.co.uk
SUMMARY:Year 10 Maths Exam
DESCRIPTION:
URL:https://www.dls-jersey.co.uk/event/year-10-maths-exam/
CATEGORIES:Exams
END:VEVENT
BEGIN:VEVENT
DTSTART;TZID=Europe/Jersey:20260514T145000
DTEND;TZID=Europe/Jersey:20260514T173000
DTSTAMP:20260420T094155
CREATED:20260419T235610Z
LAST-MODIFIED:20260419T235610Z
UID:13434-1778770200-1778779800@www.dls-jersey.co.uk
SUMMARY:Year 7 & 8 Cricket v St Michaels 2XI T20
DESCRIPTION:
URL:https://www.dls-jersey.co.uk/event/year-7-8-cricket-v-st-michaels-2xi-t20/
CATEGORIES:Secondary,Sports
END:VEVENT
BEGIN:VEVENT
DTSTART;VALUE=DATE:20260515
DTEND;VALUE=DATE:20260516
DTSTAMP:20260420T094155
CREATED:20250827T140021Z
LAST-MODIFIED:20250827T140021Z
UID:9879-1778803200-1778889599@www.dls-jersey.co.uk
SUMMARY:Founder's Day (Noon finish)
DESCRIPTION:
URL:https://www.dls-jersey.co.uk/event/founders-day-noon-finish/
CATEGORIES:Primary,Secondary
END:VEVENT
END:VCALENDAR